BEGIN:VCALENDAR
VERSION:2.0
PRODID:-//Endis Ltd/Insight//NONSGML v1.0//EN
X-WR-CALNAME:Children's Ministry, Selsdon Baptist Church
X-WR-CALDESC:Latest events from Children's Ministry, Selsdon Baptist Church
X-PUBLISHED-TTL:PT1440M
BEGIN:VEVENT
UID:E5886544@UK.endis.com
DTSTART:20260422T090000Z
DTEND:20260422T103000Z
SUMMARY:Adventure Tots
DESCRIPTION:We meet during term time in the church sanctuary. / Wednesdays only.  
LOCATION:Church Building
END:VEVENT
BEGIN:VEVENT
UID:E5886545@UK.endis.com
DTSTART:20260429T090000Z
DTEND:20260429T103000Z
SUMMARY:Adventure Tots
DESCRIPTION:We meet during term time in the church sanctuary. / Wednesdays only.  
LOCATION:Church Building
END:VEVENT
BEGIN:VEVENT
UID:E5886546@UK.endis.com
DTSTART:20260506T090000Z
DTEND:20260506T103000Z
SUMMARY:Adventure Tots
DESCRIPTION:We meet during term time in the church sanctuary. / Wednesdays only.  
LOCATION:Church Building
END:VEVENT
BEGIN:VEVENT
UID:E5886547@UK.endis.com
DTSTART:20260513T090000Z
DTEND:20260513T103000Z
SUMMARY:Adventure Tots
DESCRIPTION:We meet during term time in the church sanctuary. / Wednesdays only.  
LOCATION:Church Building
END:VEVENT
BEGIN:VEVENT
UID:E5886548@UK.endis.com
DTSTART:20260520T090000Z
DTEND:20260520T103000Z
SUMMARY:Adventure Tots
DESCRIPTION:We meet during term time in the church sanctuary. / Wednesdays only.  
LOCATION:Church Building
END:VEVENT
BEGIN:VEVENT
UID:E5886549@UK.endis.com
DTSTART:20260527T090000Z
DTEND:20260527T103000Z
SUMMARY:Adventure Tots
DESCRIPTION:We meet during term time in the church sanctuary. / Wednesdays only.  
LOCATION:Church Building
END:VEVENT
BEGIN:VEVENT
UID:E5886550@UK.endis.com
DTSTART:20260603T090000Z
DTEND:20260603T103000Z
SUMMARY:Adventure Tots
DESCRIPTION:We meet during term time in the church sanctuary. / Wednesdays only.  
LOCATION:Church Building
END:VEVENT
BEGIN:VEVENT
UID:E5886551@UK.endis.com
DTSTART:20260610T090000Z
DTEND:20260610T103000Z
SUMMARY:Adventure Tots
DESCRIPTION:We meet during term time in the church sanctuary. / Wednesdays only.  
LOCATION:Church Building
END:VEVENT
BEGIN:VEVENT
UID:E5886552@UK.endis.com
DTSTART:20260617T090000Z
DTEND:20260617T103000Z
SUMMARY:Adventure Tots
DESCRIPTION:We meet during term time in the church sanctuary. / Wednesdays only.  
LOCATION:Church Building
END:VEVENT
BEGIN:VEVENT
UID:E5886553@UK.endis.com
DTSTART:20260624T090000Z
DTEND:20260624T103000Z
SUMMARY:Adventure Tots
DESCRIPTION:We meet during term time in the church sanctuary. / Wednesdays only.  
LOCATION:Church Building
END:VEVENT
BEGIN:VEVENT
UID:E5886554@UK.endis.com
DTSTART:20260701T090000Z
DTEND:20260701T103000Z
SUMMARY:Adventure Tots
DESCRIPTION:We meet during term time in the church sanctuary. / Wednesdays only.  
LOCATION:Church Building
END:VEVENT
BEGIN:VEVENT
UID:E5886555@UK.endis.com
DTSTART:20260708T090000Z
DTEND:20260708T103000Z
SUMMARY:Adventure Tots
DESCRIPTION:We meet during term time in the church sanctuary. / Wednesdays only.  
LOCATION:Church Building
END:VEVENT
BEGIN:VEVENT
UID:E5886556@UK.endis.com
DTSTART:20260715T090000Z
DTEND:20260715T103000Z
SUMMARY:Adventure Tots
DESCRIPTION:We meet during term time in the church sanctuary. / Wednesdays only.  
LOCATION:Church Building
END:VEVENT
BEGIN:VEVENT
UID:E5886557@UK.endis.com
DTSTART:20260722T090000Z
DTEND:20260722T103000Z
SUMMARY:Adventure Tots
DESCRIPTION:We meet during term time in the church sanctuary. / Wednesdays only.  
LOCATION:Church Building
END:VEVENT
END:VCALENDAR
